BEGIN:VCALENDAR
VERSION:2.0
PRODID:-//Constellations Familiales &amp; Respiration Holotropique - ECPv6.14.2//NONSGML v1.0//EN
CALSCALE:GREGORIAN
METHOD:PUBLISH
X-ORIGINAL-URL:https://hbtranspersonnel.fr
X-WR-CALDESC:Évènements pour Constellations Familiales &amp; Respiration Holotropique
REFRESH-INTERVAL;VALUE=DURATION:PT1H
X-Robots-Tag:noindex
X-PUBLISHED-TTL:PT1H
BEGIN:VTIMEZONE
TZID:UTC
BEGIN:STANDARD
TZOFFSETFROM:+0000
TZOFFSETTO:+0000
TZNAME:UTC
DTSTART:20250101T000000
END:STANDARD
END:VTIMEZONE
BEGIN:VEVENT
DTSTART;TZID=UTC:20251011T083000
DTEND;TZID=UTC:20251012T160000
DTSTAMP:20260423T104437
CREATED:20250721T132827Z
LAST-MODIFIED:20250722T212322Z
UID:758-1760171400-1760284800@hbtranspersonnel.fr
SUMMARY:WE à Lorient (Morbihan)
DESCRIPTION:
URL:https://hbtranspersonnel.fr/event/constellations-familiales-week-end
LOCATION:Ploemeur (LORIENT)\, Ploemeur (LORIENT)
CATEGORIES:Constellations Familiales
END:VEVENT
END:VCALENDAR