BEGIN:VCALENDAR
VERSION:2.0
PRODID:-//Constellations Familiales &amp; Respiration Holotropique - ECPv6.14.2//NONSGML v1.0//EN
CALSCALE:GREGORIAN
METHOD:PUBLISH
X-ORIGINAL-URL:https://hbtranspersonnel.fr
X-WR-CALDESC:Évènements pour Constellations Familiales &amp; Respiration Holotropique
REFRESH-INTERVAL;VALUE=DURATION:PT1H
X-Robots-Tag:noindex
X-PUBLISHED-TTL:PT1H
BEGIN:VTIMEZONE
TZID:UTC
BEGIN:STANDARD
TZOFFSETFROM:+0000
TZOFFSETTO:+0000
TZNAME:UTC
DTSTART:20250101T000000
END:STANDARD
END:VTIMEZONE
BEGIN:VEVENT
DTSTART;TZID=UTC:20250125T083000
DTEND;TZID=UTC:20250125T083000
DTSTAMP:20260423T114632
CREATED:20241027T035935Z
LAST-MODIFIED:20241027T041021Z
UID:588-1737793800-1737793800@hbtranspersonnel.fr
SUMMARY:Constellations Familiales
DESCRIPTION:
URL:https://hbtranspersonnel.fr/event/constellations-familiales-8
LOCATION:6ter rue Fouquet\, Bondues\, 59910
CATEGORIES:Constellations Familiales
ATTACH;FMTTYPE=image/webp:https://hbtranspersonnel.fr/wp-content/uploads/2023/08/WEBP-Constell_01-e1730007184526.webp
END:VEVENT
END:VCALENDAR